BEGIN:VCALENDAR
VERSION:2.0
PRODID:-//PETL - ECPv6.15.20//NONSGML v1.0//EN
CALSCALE:GREGORIAN
METHOD:PUBLISH
X-WR-CALNAME:PETL
X-ORIGINAL-URL:https://etfopeel.com
X-WR-CALDESC:Events for PETL
REFRESH-INTERVAL;VALUE=DURATION:PT1H
X-Robots-Tag:noindex
X-PUBLISHED-TTL:PT1H
BEGIN:VTIMEZONE
TZID:America/Toronto
BEGIN:DAYLIGHT
TZOFFSETFROM:-0500
TZOFFSETTO:-0400
TZNAME:EDT
DTSTART:20250309T070000
END:DAYLIGHT
BEGIN:STANDARD
TZOFFSETFROM:-0400
TZOFFSETTO:-0500
TZNAME:EST
DTSTART:20251102T060000
END:STANDARD
BEGIN:DAYLIGHT
TZOFFSETFROM:-0500
TZOFFSETTO:-0400
TZNAME:EDT
DTSTART:20260308T070000
END:DAYLIGHT
BEGIN:STANDARD
TZOFFSETFROM:-0400
TZOFFSETTO:-0500
TZNAME:EST
DTSTART:20261101T060000
END:STANDARD
BEGIN:DAYLIGHT
TZOFFSETFROM:-0500
TZOFFSETTO:-0400
TZNAME:EDT
DTSTART:20270314T070000
END:DAYLIGHT
BEGIN:STANDARD
TZOFFSETFROM:-0400
TZOFFSETTO:-0500
TZNAME:EST
DTSTART:20271107T060000
END:STANDARD
END:VTIMEZONE
BEGIN:VEVENT
DTSTART;TZID=America/Toronto:20260309T164500
DTEND;TZID=America/Toronto:20260309T184500
DTSTAMP:20260421T075039
CREATED:20260210T193329Z
LAST-MODIFIED:20260309T140926Z
UID:10000462-1773074700-1773081900@etfopeel.com
SUMMARY:Pickleball Social - Mon Mar 9 (SEAC Event)
DESCRIPTION:Registration is Closed – PETL members must register individually
URL:https://etfopeel.com/event/pickleball-social-mon-mar-9-seac-event/
LOCATION:Rally at Sherwood Village\, 2225 Erin Mills Parkway\, Mississauga\, ON\, L5K 1T9
END:VEVENT
END:VCALENDAR