BEGIN:VCALENDAR
VERSION:2.0
PRODID:-//PETL - ECPv6.15.20//NONSGML v1.0//EN
CALSCALE:GREGORIAN
METHOD:PUBLISH
X-WR-CALNAME:PETL
X-ORIGINAL-URL:https://etfopeel.com
X-WR-CALDESC:Events for PETL
REFRESH-INTERVAL;VALUE=DURATION:PT1H
X-Robots-Tag:noindex
X-PUBLISHED-TTL:PT1H
BEGIN:VTIMEZONE
TZID:America/Toronto
BEGIN:DAYLIGHT
TZOFFSETFROM:-0500
TZOFFSETTO:-0400
TZNAME:EDT
DTSTART:20250309T070000
END:DAYLIGHT
BEGIN:STANDARD
TZOFFSETFROM:-0400
TZOFFSETTO:-0500
TZNAME:EST
DTSTART:20251102T060000
END:STANDARD
BEGIN:DAYLIGHT
TZOFFSETFROM:-0500
TZOFFSETTO:-0400
TZNAME:EDT
DTSTART:20260308T070000
END:DAYLIGHT
BEGIN:STANDARD
TZOFFSETFROM:-0400
TZOFFSETTO:-0500
TZNAME:EST
DTSTART:20261101T060000
END:STANDARD
BEGIN:DAYLIGHT
TZOFFSETFROM:-0500
TZOFFSETTO:-0400
TZNAME:EDT
DTSTART:20270314T070000
END:DAYLIGHT
BEGIN:STANDARD
TZOFFSETFROM:-0400
TZOFFSETTO:-0500
TZNAME:EST
DTSTART:20271107T060000
END:STANDARD
END:VTIMEZONE
BEGIN:VEVENT
DTSTART;TZID=America/Toronto:20260424T163000
DTEND;TZID=America/Toronto:20260424T220000
DTSTAMP:20260423T121305
CREATED:20260402T155330Z
LAST-MODIFIED:20260410T132343Z
UID:10000486-1777048200-1777068000@etfopeel.com
SUMMARY:Soulpepper Theatre - How to Catch Creation - Fri Apr 24 (AREC\, PAC\, Status)
DESCRIPTION:PETL has secured a bus to get everyone down to the event venue. The bus will leave promptly at 4:30 PM and return to the PETL Office after the show. The event cost includes this transportation. \n\n\n\nPayment Deadline is Monday\, April 20\, 2026 \n\n\n\nREGISTRATION IS CLOSED – EVENT IS POSTPONED TO JUNE.
URL:https://etfopeel.com/event/soulpepper-theatre-how-to-catch-creation-fri-apr-24-arec-pac-status/
LOCATION:Soulpepper Theatre\, 50 Tankhouse Lane\, Toronto\, ON\, M5A 3C4
END:VEVENT
END:VCALENDAR